Package: miRcompData Version: 1.37.0 Command: /home/biocbuild/bbs-3.21-bioc/R/bin/R CMD build --keep-empty-dirs --no-resave-data miRcompData StartedAt: 2025-02-04 11:30:01 -0500 (Tue, 04 Feb 2025) EndedAt: 2025-02-04 11:30:02 -0500 (Tue, 04 Feb 2025) EllapsedTime: 1.0 seconds RetCode: 0 Status: OK PackageFile: miRcompData_1.37.0.tar.gz PackageFileSize: 8.654 MiB