Package: miRcompData Version: 1.37.0 Command: /home/biocbuild/bbs-3.21-bioc/R/bin/R CMD check --install=check:miRcompData.install-out.txt --library=/home/biocbuild/bbs-3.21-bioc/R/site-library --timings miRcompData_1.37.0.tar.gz StartedAt: 2025-02-06 12:24:31 -0500 (Thu, 06 Feb 2025) EndedAt: 2025-02-06 12:24:55 -0500 (Thu, 06 Feb 2025) EllapsedTime: 24.3 seconds RetCode: 0 Status: OK CheckDir: miRcompData.Rcheck Warnings: 0