Package: miRcompData Version: 1.37.0 Command: /home/biocbuild/bbs-3.21-bioc/R/bin/R CMD INSTALL miRcompData StartedAt: 2025-02-06 10:55:09 -0500 (Thu, 06 Feb 2025) EndedAt: 2025-02-06 10:55:10 -0500 (Thu, 06 Feb 2025) EllapsedTime: 1.0 seconds RetCode: 0 Status: OK