Package: microRNAome Version: 1.29.0 Command: /home/biocbuild/bbs-3.21-bioc/R/bin/R CMD check --install=check:microRNAome.install-out.txt --library=/home/biocbuild/bbs-3.21-bioc/R/site-library --timings microRNAome_1.29.0.tar.gz StartedAt: 2025-02-06 12:22:33 -0500 (Thu, 06 Feb 2025) EndedAt: 2025-02-06 12:24:03 -0500 (Thu, 06 Feb 2025) EllapsedTime: 90.7 seconds RetCode: 0 Status: WARNINGS CheckDir: microRNAome.Rcheck Warnings: 2