Package: minfiDataEPIC Version: 1.33.0 Command: /home/biocbuild/bbs-3.21-bioc/R/bin/R CMD check --install=check:minfiDataEPIC.install-out.txt --library=/home/biocbuild/bbs-3.21-bioc/R/site-library --timings minfiDataEPIC_1.33.0.tar.gz StartedAt: 2025-02-06 12:23:41 -0500 (Thu, 06 Feb 2025) EndedAt: 2025-02-06 12:26:41 -0500 (Thu, 06 Feb 2025) EllapsedTime: 179.4 seconds RetCode: 0 Status: WARNINGS CheckDir: minfiDataEPIC.Rcheck Warnings: 1