Package: minfiDataEPIC Version: 1.33.0 Command: /home/biocbuild/bbs-3.21-bioc/R/bin/R CMD INSTALL minfiDataEPIC StartedAt: 2025-02-06 11:01:39 -0500 (Thu, 06 Feb 2025) EndedAt: 2025-02-06 11:02:26 -0500 (Thu, 06 Feb 2025) EllapsedTime: 46.8 seconds RetCode: 0 Status: OK