Package: mouse4302barcodevecs Version: 1.45.0 Command: /home/biocbuild/bbs-3.21-bioc/R/bin/R CMD check --install=check:mouse4302barcodevecs.install-out.txt --library=/home/biocbuild/bbs-3.21-bioc/R/site-library --timings mouse4302barcodevecs_1.45.0.tar.gz StartedAt: 2025-02-06 12:25:28 -0500 (Thu, 06 Feb 2025) EndedAt: 2025-02-06 12:25:39 -0500 (Thu, 06 Feb 2025) EllapsedTime: 11.3 seconds RetCode: 0 Status: OK CheckDir: mouse4302barcodevecs.Rcheck Warnings: 0