Package: mtbls2 Version: 1.37.0 Command: /home/biocbuild/bbs-3.21-bioc/R/bin/R CMD check --install=check:mtbls2.install-out.txt --library=/home/biocbuild/bbs-3.21-bioc/R/site-library --timings mtbls2_1.37.0.tar.gz StartedAt: 2025-02-04 12:26:54 -0500 (Tue, 04 Feb 2025) EndedAt: 2025-02-04 12:27:21 -0500 (Tue, 04 Feb 2025) EllapsedTime: 26.8 seconds RetCode: 1 Status: ERROR CheckDir: mtbls2.Rcheck Warnings: NA