Package: mvoutData Version: 1.43.0 Command: /home/biocbuild/bbs-3.21-bioc/R/bin/R CMD check --install=check:mvoutData.install-out.txt --library=/home/biocbuild/bbs-3.21-bioc/R/site-library --timings mvoutData_1.43.0.tar.gz StartedAt: 2025-02-06 12:27:23 -0500 (Thu, 06 Feb 2025) EndedAt: 2025-02-06 12:29:51 -0500 (Thu, 06 Feb 2025) EllapsedTime: 147.8 seconds RetCode: 0 Status: OK CheckDir: mvoutData.Rcheck Warnings: 0