Package: nanotubes Version: 1.23.0 Command: /home/biocbuild/bbs-3.21-bioc/R/bin/R CMD build --keep-empty-dirs --no-resave-data nanotubes StartedAt: 2025-02-06 11:31:39 -0500 (Thu, 06 Feb 2025) EndedAt: 2025-02-06 11:32:01 -0500 (Thu, 06 Feb 2025) EllapsedTime: 21.9 seconds RetCode: 0 Status: OK PackageFile: nanotubes_1.23.0.tar.gz PackageFileSize: 117.6 MiB