Package: nanotubes Version: 1.23.0 Command: /home/biocbuild/bbs-3.21-bioc/R/bin/R CMD INSTALL nanotubes StartedAt: 2025-02-13 10:55:10 -0500 (Thu, 13 Feb 2025) EndedAt: 2025-02-13 10:55:13 -0500 (Thu, 13 Feb 2025) EllapsedTime: 3.5 seconds RetCode: 0 Status: OK