Package: pRolocdata Version: 1.45.1 Command: /home/biocbuild/bbs-3.21-bioc/R/bin/R CMD build --keep-empty-dirs --no-resave-data pRolocdata StartedAt: 2025-02-04 11:34:11 -0500 (Tue, 04 Feb 2025) EndedAt: 2025-02-04 11:34:50 -0500 (Tue, 04 Feb 2025) EllapsedTime: 39.5 seconds RetCode: 0 Status: OK PackageFile: pRolocdata_1.45.1.tar.gz PackageFileSize: 191.1 MiB