Package: pasilla Version: 1.35.0 Command: /home/biocbuild/bbs-3.21-bioc/R/bin/R CMD build --keep-empty-dirs --no-resave-data pasilla StartedAt: 2025-02-13 11:33:16 -0500 (Thu, 13 Feb 2025) EndedAt: 2025-02-13 11:34:12 -0500 (Thu, 13 Feb 2025) EllapsedTime: 55.9 seconds RetCode: 0 Status: OK PackageFile: pasilla_1.35.0.tar.gz PackageFileSize: 3.151 MiB