Package: pepDat Version: 1.27.0 Command: /home/biocbuild/bbs-3.21-bioc/R/bin/R CMD build --keep-empty-dirs --no-resave-data pepDat StartedAt: 2025-02-06 11:33:45 -0500 (Thu, 06 Feb 2025) EndedAt: 2025-02-06 11:34:02 -0500 (Thu, 06 Feb 2025) EllapsedTime: 16.7 seconds RetCode: 0 Status: OK PackageFile: pepDat_1.27.0.tar.gz PackageFileSize: 2.66 MiB