Package: plotgardenerData Version: 1.13.0 Command: /home/biocbuild/bbs-3.21-bioc/R/bin/R CMD build --keep-empty-dirs --no-resave-data plotgardenerData StartedAt: 2025-02-06 11:33:49 -0500 (Thu, 06 Feb 2025) EndedAt: 2025-02-06 11:33:54 -0500 (Thu, 06 Feb 2025) EllapsedTime: 5.0 seconds RetCode: 0 Status: OK PackageFile: plotgardenerData_1.13.0.tar.gz PackageFileSize: 2.388 MiB