Package: plotgardenerData Version: 1.13.0 Command: /home/biocbuild/bbs-3.21-bioc/R/bin/R CMD check --install=check:plotgardenerData.install-out.txt --library=/home/biocbuild/bbs-3.21-bioc/R/site-library --timings plotgardenerData_1.13.0.tar.gz StartedAt: 2025-02-06 12:31:42 -0500 (Thu, 06 Feb 2025) EndedAt: 2025-02-06 12:32:01 -0500 (Thu, 06 Feb 2025) EllapsedTime: 19.3 seconds RetCode: 0 Status: WARNINGS CheckDir: plotgardenerData.Rcheck Warnings: 1