Package: prebsdata Version: 1.43.0 Maintainer: Karolis Uziela MaintainerEmail: karolis.uziela at scilifelab.se git_url: https://git.bioconductor.org/packages/prebsdata git_branch: devel git_last_commit: cedacac git_last_commit_date: 2024-10-29 09:36:36 -0500 (Tue, 29 Oct 2024)