Package: prebsdata Version: 1.43.0 Command: /home/biocbuild/bbs-3.21-bioc/R/bin/R CMD build --keep-empty-dirs --no-resave-data prebsdata StartedAt: 2025-02-06 11:33:55 -0500 (Thu, 06 Feb 2025) EndedAt: 2025-02-06 11:34:19 -0500 (Thu, 06 Feb 2025) EllapsedTime: 24.5 seconds RetCode: 0 Status: OK PackageFile: prebsdata_1.43.0.tar.gz PackageFileSize: 23.54 MiB