Package: prostateCancerStockholm Version: 1.35.0 Command: /home/biocbuild/bbs-3.21-bioc/R/bin/R CMD build --keep-empty-dirs --no-resave-data prostateCancerStockholm StartedAt: 2025-02-11 11:34:30 -0500 (Tue, 11 Feb 2025) EndedAt: 2025-02-11 11:34:41 -0500 (Tue, 11 Feb 2025) EllapsedTime: 11.3 seconds RetCode: 0 Status: OK PackageFile: prostateCancerStockholm_1.35.0.tar.gz PackageFileSize: 13.51 MiB