Package: prostateCancerStockholm Version: 1.35.0 Command: /home/biocbuild/bbs-3.21-bioc/R/bin/R CMD INSTALL prostateCancerStockholm StartedAt: 2025-02-11 10:56:14 -0500 (Tue, 11 Feb 2025) EndedAt: 2025-02-11 10:56:22 -0500 (Tue, 11 Feb 2025) EllapsedTime: 8.7 seconds RetCode: 0 Status: OK