Package: prostateCancerVarambally Version: 1.35.0 Command: /home/biocbuild/bbs-3.21-bioc/R/bin/R CMD build --keep-empty-dirs --no-resave-data prostateCancerVarambally StartedAt: 2025-02-06 11:34:35 -0500 (Thu, 06 Feb 2025) EndedAt: 2025-02-06 11:34:43 -0500 (Thu, 06 Feb 2025) EllapsedTime: 8.0 seconds RetCode: 0 Status: OK PackageFile: prostateCancerVarambally_1.35.0.tar.gz PackageFileSize: 5.717 MiB