Package: raerdata Version: 1.5.0 Command: /home/biocbuild/bbs-3.21-bioc/R/bin/R CMD check --install=check:raerdata.install-out.txt --library=/home/biocbuild/bbs-3.21-bioc/R/site-library --timings raerdata_1.5.0.tar.gz StartedAt: 2025-02-06 12:33:21 -0500 (Thu, 06 Feb 2025) EndedAt: 2025-02-06 12:39:36 -0500 (Thu, 06 Feb 2025) EllapsedTime: 374.2 seconds RetCode: 0 Status: OK CheckDir: raerdata.Rcheck Warnings: 0