Package: raerdata Version: 1.5.0 Command: /home/biocbuild/bbs-3.21-bioc/R/bin/R CMD INSTALL raerdata StartedAt: 2025-02-06 11:00:37 -0500 (Thu, 06 Feb 2025) EndedAt: 2025-02-06 11:01:11 -0500 (Thu, 06 Feb 2025) EllapsedTime: 34.1 seconds RetCode: 0 Status: OK