Package: rcellminerData Version: 2.29.0 Command: /home/biocbuild/bbs-3.21-bioc/R/bin/R CMD INSTALL rcellminerData StartedAt: 2025-02-04 10:56:05 -0500 (Tue, 04 Feb 2025) EndedAt: 2025-02-04 10:56:31 -0500 (Tue, 04 Feb 2025) EllapsedTime: 25.7 seconds RetCode: 0 Status: OK