Package: scATAC.Explorer Version: 1.13.0 Command: /home/biocbuild/bbs-3.21-bioc/R/bin/R CMD INSTALL scATAC.Explorer StartedAt: 2025-02-06 11:02:40 -0500 (Thu, 06 Feb 2025) EndedAt: 2025-02-06 11:03:05 -0500 (Thu, 06 Feb 2025) EllapsedTime: 24.8 seconds RetCode: 0 Status: OK