Package: scMultiome Version: 1.7.3 Command: /home/biocbuild/bbs-3.21-bioc/R/bin/R CMD build --keep-empty-dirs --no-resave-data scMultiome StartedAt: 2025-02-13 11:38:54 -0500 (Thu, 13 Feb 2025) EndedAt: 2025-02-13 11:39:45 -0500 (Thu, 13 Feb 2025) EllapsedTime: 51.0 seconds RetCode: 0 Status: OK PackageFile: scMultiome_1.7.3.tar.gz PackageFileSize: 359.9 KiB