Package: scTHI.data Version: 1.19.0 Command: /home/biocbuild/bbs-3.21-bioc/R/bin/R CMD check --install=check:scTHI.data.install-out.txt --library=/home/biocbuild/bbs-3.21-bioc/R/site-library --timings scTHI.data_1.19.0.tar.gz StartedAt: 2025-02-13 12:42:29 -0500 (Thu, 13 Feb 2025) EndedAt: 2025-02-13 12:43:12 -0500 (Thu, 13 Feb 2025) EllapsedTime: 42.9 seconds RetCode: 0 Status: OK CheckDir: scTHI.data.Rcheck Warnings: 0