Package: scanMiRData Version: 1.13.0 Command: /home/biocbuild/bbs-3.21-bioc/R/bin/R CMD build --keep-empty-dirs --no-resave-data scanMiRData StartedAt: 2025-02-06 11:37:54 -0500 (Thu, 06 Feb 2025) EndedAt: 2025-02-06 11:38:20 -0500 (Thu, 06 Feb 2025) EllapsedTime: 26.3 seconds RetCode: 0 Status: OK PackageFile: scanMiRData_1.13.0.tar.gz PackageFileSize: 16.14 MiB