Package: scpdata Version: 1.15.0 Command: /home/biocbuild/bbs-3.21-bioc/R/bin/R CMD check --install=check:scpdata.install-out.txt --library=/home/biocbuild/bbs-3.21-bioc/R/site-library --timings scpdata_1.15.0.tar.gz StartedAt: 2025-02-06 12:40:25 -0500 (Thu, 06 Feb 2025) EndedAt: 2025-02-06 12:50:56 -0500 (Thu, 06 Feb 2025) EllapsedTime: 631.2 seconds RetCode: 1 Status: ERROR CheckDir: scpdata.Rcheck Warnings: NA