Package: seq2pathway.data Version: 1.39.0 Command: /home/biocbuild/bbs-3.21-bioc/R/bin/R CMD build --keep-empty-dirs --no-resave-data seq2pathway.data StartedAt: 2025-02-06 11:38:58 -0500 (Thu, 06 Feb 2025) EndedAt: 2025-02-06 11:40:18 -0500 (Thu, 06 Feb 2025) EllapsedTime: 80.0 seconds RetCode: 0 Status: OK PackageFile: seq2pathway.data_1.39.0.tar.gz PackageFileSize: 97.22 MiB