Package: seqc Version: 1.41.0 Command: /home/biocbuild/bbs-3.21-bioc/R/bin/R CMD check --install=check:seqc.install-out.txt --library=/home/biocbuild/bbs-3.21-bioc/R/site-library --timings seqc_1.41.0.tar.gz StartedAt: 2025-02-06 12:41:07 -0500 (Thu, 06 Feb 2025) EndedAt: 2025-02-06 12:42:20 -0500 (Thu, 06 Feb 2025) EllapsedTime: 73.2 seconds RetCode: 0 Status: WARNINGS CheckDir: seqc.Rcheck Warnings: 1