Package: seventyGeneData Version: 1.43.0 Command: /home/biocbuild/bbs-3.21-bioc/R/bin/R CMD build --keep-empty-dirs --no-resave-data seventyGeneData StartedAt: 2025-02-06 11:39:27 -0500 (Thu, 06 Feb 2025) EndedAt: 2025-02-06 11:39:44 -0500 (Thu, 06 Feb 2025) EllapsedTime: 17.0 seconds RetCode: 0 Status: OK PackageFile: seventyGeneData_1.43.0.tar.gz PackageFileSize: 145.1 MiB