Package: signatureSearchData Version: 1.21.0 Command: /home/biocbuild/bbs-3.21-bioc/R/bin/R CMD build --keep-empty-dirs --no-resave-data signatureSearchData StartedAt: 2025-02-06 11:39:34 -0500 (Thu, 06 Feb 2025) EndedAt: 2025-02-06 11:39:49 -0500 (Thu, 06 Feb 2025) EllapsedTime: 14.8 seconds RetCode: 0 Status: OK PackageFile: signatureSearchData_1.21.0.tar.gz PackageFileSize: 656.9 KiB