Package: signatureSearchData Version: 1.21.0 Command: /home/biocbuild/bbs-3.21-bioc/R/bin/R CMD INSTALL signatureSearchData StartedAt: 2025-02-13 10:56:59 -0500 (Thu, 13 Feb 2025) EndedAt: 2025-02-13 10:57:04 -0500 (Thu, 13 Feb 2025) EllapsedTime: 5.3 seconds RetCode: 0 Status: OK