Package: smokingMouse Version: 1.5.1 Command: /home/biocbuild/bbs-3.21-bioc/R/bin/R CMD check --install=check:smokingMouse.install-out.txt --library=/home/biocbuild/bbs-3.21-bioc/R/site-library --timings smokingMouse_1.5.1.tar.gz StartedAt: 2025-02-06 12:42:21 -0500 (Thu, 06 Feb 2025) EndedAt: 2025-02-06 12:43:08 -0500 (Thu, 06 Feb 2025) EllapsedTime: 46.6 seconds RetCode: 0 Status: OK CheckDir: smokingMouse.Rcheck Warnings: 0