Package: spatialLIBD Version: 1.19.6 Maintainer: Leonardo Collado-Torres MaintainerEmail: lcolladotor at gmail.com git_url: https://git.bioconductor.org/packages/spatialLIBD git_branch: devel git_last_commit: 27db42d git_last_commit_date: 2024-12-16 16:18:11 -0500 (Mon, 16 Dec 2024)