Package: spatialLIBD Version: 1.19.6 Command: /home/biocbuild/bbs-3.21-bioc/R/bin/R CMD build --keep-empty-dirs --no-resave-data spatialLIBD StartedAt: 2025-02-06 11:40:31 -0500 (Thu, 06 Feb 2025) EndedAt: 2025-02-06 11:46:34 -0500 (Thu, 06 Feb 2025) EllapsedTime: 362.8 seconds RetCode: 0 Status: OK PackageFile: spatialLIBD_1.19.6.tar.gz PackageFileSize: 19.5 MiB