Package: spatialLIBD Version: 1.19.6 Command: /home/biocbuild/bbs-3.21-bioc/R/bin/R CMD check --install=check:spatialLIBD.install-out.txt --library=/home/biocbuild/bbs-3.21-bioc/R/site-library --timings spatialLIBD_1.19.6.tar.gz StartedAt: 2025-02-06 12:43:59 -0500 (Thu, 06 Feb 2025) EndedAt: 2025-02-06 13:03:37 -0500 (Thu, 06 Feb 2025) EllapsedTime: 1178.6 seconds RetCode: 0 Status: OK CheckDir: spatialLIBD.Rcheck Warnings: 0