Package: spatialLIBD Version: 1.19.6 Command: /home/biocbuild/bbs-3.21-bioc/R/bin/R CMD INSTALL spatialLIBD StartedAt: 2025-02-06 11:01:56 -0500 (Thu, 06 Feb 2025) EndedAt: 2025-02-06 11:02:40 -0500 (Thu, 06 Feb 2025) EllapsedTime: 44.5 seconds RetCode: 0 Status: OK