Package: systemPipeRdata Version: 2.11.0 Command: /home/biocbuild/bbs-3.21-bioc/R/bin/R CMD build --keep-empty-dirs --no-resave-data systemPipeRdata StartedAt: 2025-02-06 11:40:53 -0500 (Thu, 06 Feb 2025) EndedAt: 2025-02-06 11:42:01 -0500 (Thu, 06 Feb 2025) EllapsedTime: 68.4 seconds RetCode: 0 Status: OK PackageFile: systemPipeRdata_2.11.0.tar.gz PackageFileSize: 272.7 MiB