Package: systemPipeRdata Version: 2.11.0 Command: /home/biocbuild/bbs-3.21-bioc/R/bin/R CMD check --install=check:systemPipeRdata.install-out.txt --library=/home/biocbuild/bbs-3.21-bioc/R/site-library --timings systemPipeRdata_2.11.0.tar.gz StartedAt: 2025-02-06 12:45:15 -0500 (Thu, 06 Feb 2025) EndedAt: 2025-02-06 12:47:50 -0500 (Thu, 06 Feb 2025) EllapsedTime: 154.5 seconds RetCode: 0 Status: OK CheckDir: systemPipeRdata.Rcheck Warnings: 0