Package: systemPipeRdata Version: 2.11.0 Command: /home/biocbuild/bbs-3.21-bioc/R/bin/R CMD INSTALL systemPipeRdata StartedAt: 2025-02-06 10:56:35 -0500 (Thu, 06 Feb 2025) EndedAt: 2025-02-06 10:56:44 -0500 (Thu, 06 Feb 2025) EllapsedTime: 9.4 seconds RetCode: 0 Status: OK