Package: tartare Version: 1.21.0 Command: /home/biocbuild/bbs-3.21-bioc/R/bin/R CMD build --keep-empty-dirs --no-resave-data tartare StartedAt: 2025-02-06 11:41:43 -0500 (Thu, 06 Feb 2025) EndedAt: 2025-02-06 11:42:05 -0500 (Thu, 06 Feb 2025) EllapsedTime: 21.7 seconds RetCode: 0 Status: OK PackageFile: tartare_1.21.0.tar.gz PackageFileSize: 307.4 KiB