Package: tuberculosis Version: 1.13.0 Command: /home/biocbuild/bbs-3.21-bioc/R/bin/R CMD build --keep-empty-dirs --no-resave-data tuberculosis StartedAt: 2025-02-06 11:43:23 -0500 (Thu, 06 Feb 2025) EndedAt: 2025-02-06 11:44:36 -0500 (Thu, 06 Feb 2025) EllapsedTime: 73.1 seconds RetCode: 0 Status: OK PackageFile: tuberculosis_1.13.0.tar.gz PackageFileSize: 352.7 KiB