Package: tuberculosis Version: 1.13.0 Command: /home/biocbuild/bbs-3.21-bioc/R/bin/R CMD INSTALL tuberculosis StartedAt: 2025-02-04 10:59:02 -0500 (Tue, 04 Feb 2025) EndedAt: 2025-02-04 10:59:28 -0500 (Tue, 04 Feb 2025) EllapsedTime: 26.1 seconds RetCode: 0 Status: OK