Package: vulcandata Version: 1.29.0 Command: /home/biocbuild/bbs-3.21-bioc/R/bin/R CMD build --keep-empty-dirs --no-resave-data vulcandata StartedAt: 2025-02-13 11:44:49 -0500 (Thu, 13 Feb 2025) EndedAt: 2025-02-13 11:45:00 -0500 (Thu, 13 Feb 2025) EllapsedTime: 10.3 seconds RetCode: 0 Status: OK PackageFile: vulcandata_1.29.0.tar.gz PackageFileSize: 44.75 MiB