Package: vulcandata Version: 1.29.0 Command: /home/biocbuild/bbs-3.21-bioc/R/bin/R CMD check --install=check:vulcandata.install-out.txt --library=/home/biocbuild/bbs-3.21-bioc/R/site-library --timings vulcandata_1.29.0.tar.gz StartedAt: 2025-02-13 12:55:32 -0500 (Thu, 13 Feb 2025) EndedAt: 2025-02-13 12:55:52 -0500 (Thu, 13 Feb 2025) EllapsedTime: 20.0 seconds RetCode: 0 Status: OK CheckDir: vulcandata.Rcheck Warnings: 0