Package: BP4RNAseq Version: 1.17.0 Command: /Library/Frameworks/R.framework/Resources/bin/R CMD build --keep-empty-dirs --no-resave-data BP4RNAseq StartedAt: 2025-02-07 13:03:40 -0500 (Fri, 07 Feb 2025) EndedAt: 2025-02-07 13:03:52 -0500 (Fri, 07 Feb 2025) EllapsedTime: 11.4 seconds RetCode: 0 Status: OK PackageFile: BP4RNAseq_1.17.0.tar.gz PackageFileSize: 3.037 MiB