Package: BP4RNAseq Version: 1.17.0 Command: /home/biocbuild/bbs-3.21-bioc/R/bin/R CMD build --keep-empty-dirs --no-resave-data BP4RNAseq StartedAt: 2025-02-07 13:04:19 -0500 (Fri, 07 Feb 2025) EndedAt: 2025-02-07 13:04:29 -0500 (Fri, 07 Feb 2025) EllapsedTime: 10.0 seconds RetCode: 0 Status: OK PackageFile: BP4RNAseq_1.17.0.tar.gz PackageFileSize: 3.037 MiB