Package: BP4RNAseq Version: 1.17.0 Command: /home/biocbuild/bbs-3.21-bioc/R/bin/R CMD INSTALL BP4RNAseq StartedAt: 2025-02-07 13:00:17 -0500 (Fri, 07 Feb 2025) EndedAt: 2025-02-07 13:00:20 -0500 (Fri, 07 Feb 2025) EllapsedTime: 3.4 seconds RetCode: 0 Status: OK